BEGIN:VCALENDAR
VERSION:2.0
PRODID:-//American Precision Museum - ECPv6.15.20//NONSGML v1.0//EN
CALSCALE:GREGORIAN
METHOD:PUBLISH
X-WR-CALNAME:American Precision Museum
X-ORIGINAL-URL:https://americanprecision.org
X-WR-CALDESC:Events for American Precision Museum
REFRESH-INTERVAL;VALUE=DURATION:PT1H
X-Robots-Tag:noindex
X-PUBLISHED-TTL:PT1H
BEGIN:VTIMEZONE
TZID:America/New_York
BEGIN:DAYLIGHT
TZOFFSETFROM:-0500
TZOFFSETTO:-0400
TZNAME:EDT
DTSTART:20240310T070000
END:DAYLIGHT
BEGIN:STANDARD
TZOFFSETFROM:-0400
TZOFFSETTO:-0500
TZNAME:EST
DTSTART:20241103T060000
END:STANDARD
BEGIN:DAYLIGHT
TZOFFSETFROM:-0500
TZOFFSETTO:-0400
TZNAME:EDT
DTSTART:20250309T070000
END:DAYLIGHT
BEGIN:STANDARD
TZOFFSETFROM:-0400
TZOFFSETTO:-0500
TZNAME:EST
DTSTART:20251102T060000
END:STANDARD
BEGIN:DAYLIGHT
TZOFFSETFROM:-0500
TZOFFSETTO:-0400
TZNAME:EDT
DTSTART:20260308T070000
END:DAYLIGHT
BEGIN:STANDARD
TZOFFSETFROM:-0400
TZOFFSETTO:-0500
TZNAME:EST
DTSTART:20261101T060000
END:STANDARD
END:VTIMEZONE
BEGIN:VEVENT
DTSTART;TZID=America/New_York:20251029T140000
DTEND;TZID=America/New_York:20251029T170000
DTSTAMP:20260424T093144
CREATED:20250924T171521Z
LAST-MODIFIED:20250924T171750Z
UID:5052-1761746400-1761757200@americanprecision.org
SUMMARY:Spooky Makers: Afterschool Costume Lab
DESCRIPTION:Get your creativity in gear this Halloween! Join us for a special mid-week after-school maker event where kids can design and build their own costume components using our laser cutter\, building materials\, and hands-on guidance from expert makers. \nNot feeling crafty? No problem! We’ll also have spooky activities and treats\, so everyone can enjoy some Halloween fun. Perfect for kids looking to get a jump on their costumes or just enjoy a festive\, hands-on afternoon. \nOpen to all kids—homeschoolers\, after-school participants\, and anyone ready for a little Halloween making magic!
URL:https://americanprecision.org/events/costumelab1/
CATEGORIES:Hands On Activities
END:VEVENT
BEGIN:VEVENT
DTSTART;TZID=America/New_York:20251030T140000
DTEND;TZID=America/New_York:20251030T170000
DTSTAMP:20260424T093144
CREATED:20250924T171628Z
LAST-MODIFIED:20250924T171633Z
UID:5053-1761832800-1761843600@americanprecision.org
SUMMARY:Spooky Makers: Afterschool Costume Lab
DESCRIPTION:Get your creativity in gear this Halloween! Join us for a special mid-week after-school maker event where kids can design and build their own costume components using our laser cutter\, building materials\, and hands-on guidance from expert makers. \nNot feeling crafty? No problem! We’ll also have spooky activities and treats\, so everyone can enjoy some Halloween fun. Perfect for kids looking to get a jump on their costumes or just enjoy a festive\, hands-on afternoon. \nOpen to all kids—homeschoolers\, after-school participants\, and anyone ready for a little Halloween making magic!
URL:https://americanprecision.org/events/costumelab2/
CATEGORIES:Hands On Activities
END:VEVENT
END:VCALENDAR